BEGIN:VCALENDAR
VERSION:2.0
PRODID:Events Booking
BEGIN:VEVENT
UID:69e9d48981961
SUMMARY:Lost in the ´90s
DESCRIPTION:Here We Go\, Again ! Musik aus den ´90s by DJ Ramirez
LOCATION:EG + 1. OG
DTSTART:20230922T190000Z
DTEND:20230923T010000Z
DTSTAMP:20220302T132123Z
ORGANIZER;CN=Rocket Club:MAILTO:info@rocketclub.de
END:VEVENT
END:VCALENDAR