BEGIN:VCALENDAR
VERSION:2.0
PRODID:Events Booking
BEGIN:VEVENT
UID:69e9d46a865e7
SUMMARY:70ies-Party \"The Ballroom Blitz\"
DESCRIPTION:Von ABBA bis ZAPPA: Rock &amp\; Pop vom Feinsten aus den Siebz
 igern
LOCATION:EG + 1. OG
DTSTART:20230923T190000Z
DTEND:20230924T010000Z
DTSTAMP:20220328T093446Z
ORGANIZER;CN=Rocket Club:MAILTO:info@rocketclub.de
END:VEVENT
END:VCALENDAR