BEGIN:VCALENDAR
VERSION:2.0
PRODID:Events Booking
BEGIN:VEVENT
UID:69e9d60de84aa
SUMMARY:Lust for Life
DESCRIPTION:LOVE GROOVES &amp\; BASTARD BLUES !!!
LOCATION:EG
DTSTART:20230929T190000Z
DTEND:20230930T010000Z
DTSTAMP:20220302T154651Z
ORGANIZER;CN=Rocket Club:MAILTO:info@rocketclub.de
END:VEVENT
END:VCALENDAR