BEGIN:VCALENDAR
VERSION:2.0
PRODID:Events Booking
BEGIN:VEVENT
UID:69e9d3cee5ec4
SUMMARY:Dark Rocketclub
DESCRIPTION:Das Fest für ALLE Freunde dunkler Musik und aus den Bereichen
  der Dämmerung.
  
LOCATION:EG + 1. OG
DTSTART:20230930T190000Z
DTEND:20231001T010000Z
DTSTAMP:20220303T114113Z
ORGANIZER;CN=Rocket Club:MAILTO:info@rocketclub.de
END:VEVENT
END:VCALENDAR