BEGIN:VCALENDAR
VERSION:2.0
PRODID:Events Booking
BEGIN:VEVENT
UID:69e9d3cef1cf4
SUMMARY:Around 2000
DESCRIPTION:Eine musikalische Reise über die Grenzen der letzten Jahrtause
 ndwende und zurück.
LOCATION:EG
DTSTART:20230908T190000Z
DTEND:20230909T010000Z
DTSTAMP:20220906T155253Z
ORGANIZER;CN=Rocket Club:MAILTO:info@rocketclub.de
END:VEVENT
END:VCALENDAR