BEGIN:VCALENDAR
VERSION:2.0
PRODID:Events Booking
BEGIN:VEVENT
UID:69e9d48980cc1
SUMMARY:80ies Flashback Party
DESCRIPTION:DJ Peiss lässt hier eine der kreativsten Dekaden des letzten J
 ahrhunderts wieder aufleben.
LOCATION:EG + 1. OG
DTSTART:20231014T190000Z
DTEND:20231015T010000Z
DTSTAMP:20220302T140033Z
ORGANIZER;CN=Rocket Club:MAILTO:info@rocketclub.de
END:VEVENT
END:VCALENDAR