BEGIN:VCALENDAR
VERSION:2.0
PRODID:Events Booking
BEGIN:VEVENT
UID:69e9d3fcdf0e1
SUMMARY:Lost in the ´90s
DESCRIPTION:Here We Go\, Again ! Musik aus den ´90s by DJ Ramirez
LOCATION:EG + 1. OG
DTSTART:20231020T190000Z
DTEND:20231021T010000Z
DTSTAMP:20220302T132123Z
ORGANIZER;CN=Rocket Club:MAILTO:info@rocketclub.de
END:VEVENT
END:VCALENDAR