BEGIN:VCALENDAR
VERSION:2.0
PRODID:Events Booking
BEGIN:VEVENT
UID:69ed8ce827e7a
SUMMARY:Afrikanischer Tanzabend
DESCRIPTION:Djembe &amp\; Afrobeat-Tanz
LOCATION:2. OG
DTSTART:20260502T160000Z
DTEND:20260502T210000Z
DTSTAMP:20260425T183907Z
ORGANIZER;CN=Rocket Club:MAILTO:info@rocketclub.de
END:VEVENT
END:VCALENDAR