BEGIN:VCALENDAR
VERSION:2.0
PRODID:Events Booking
BEGIN:VEVENT
UID:69e7398c51652
SUMMARY:Spieleabend
DESCRIPTION:Spieleabend im Rocketclub – Bring dein Lieblingsspiel mit!
LOCATION:1. OG
DTSTART:20260507T170000Z
DTEND:20260507T210000Z
DTSTAMP:20260210T094939Z
ORGANIZER;CN=Rocket Club:MAILTO:info@rocketclub.de
END:VEVENT
END:VCALENDAR