BEGIN:VCALENDAR
VERSION:2.0
PRODID:Events Booking
BEGIN:VEVENT
UID:69e9e743305d3
SUMMARY:Sommerpause von 18.06. - 07.09. 
DESCRIPTION:Wir sehen uns an den Stränden dieser Welt !
DTSTART:20230617T220000Z
DTEND:20230906T220000Z
DTSTAMP:20220523T145542Z
ORGANIZER;CN=Rocket Club:MAILTO:info@rocketclub.de
END:VEVENT
END:VCALENDAR