BEGIN:VCALENDAR
VERSION:2.0
PRODID:Events Booking
BEGIN:VEVENT
UID:69e9e3588616b
SUMMARY:Let There Be Rock
DESCRIPTION:LET THERE BE ROCK … und damit Ende der Diskussion!
  
LOCATION:EG + 1. OG
DTSTART:20230909T190000Z
DTEND:20230910T010000Z
DTSTAMP:20220302T125217Z
ORGANIZER;CN=Rocket Club:MAILTO:info@rocketclub.de
END:VEVENT
END:VCALENDAR