BEGIN:VCALENDAR
VERSION:2.0
PRODID:Events Booking
BEGIN:VEVENT
UID:69e9e37964655
SUMMARY:Time Warp
DESCRIPTION:70s / 80s / 90s / Beyond - eingedampft auf das Wesentliche von 
 DJ Steve Cyler.
LOCATION:EG
DTSTART:20231006T190000Z
DTEND:20231007T010000Z
DTSTAMP:20220302T161554Z
ORGANIZER;CN=Rocket Club:MAILTO:info@rocketclub.de
END:VEVENT
END:VCALENDAR