BEGIN:VCALENDAR
VERSION:2.0
PRODID:Events Booking
BEGIN:VEVENT
UID:69e9e4ff1c335
SUMMARY:From Disco to Disco
DESCRIPTION:Mit Disco-Goodies im Koffer lassen wir die legendäre Disco-Är
 a aka Studio54 wieder aufleben.
LOCATION:EG
DTSTART:20231013T190000Z
DTEND:20231014T010000Z
DTSTAMP:20220303T113814Z
ORGANIZER;CN=Rocket Club:MAILTO:info@rocketclub.de
END:VEVENT
END:VCALENDAR