BEGIN:VCALENDAR
VERSION:2.0
PRODID:Events Booking
BEGIN:VEVENT
UID:69e9e39507300
SUMMARY:Beyond 2010
DESCRIPTION:DJ Ramirez präsentiert Euch den Sound des letzten Jahrzehnts u
 nd dem angefangenen jetzigen.
LOCATION:EG
DTSTART:20231002T190000Z
DTEND:20231003T010000Z
DTSTAMP:20230615T072414Z
ORGANIZER;CN=Rocket Club:MAILTO:info@rocketclub.de
END:VEVENT
END:VCALENDAR