BEGIN:VCALENDAR
VERSION:2.0
PRODID:Events Booking
BEGIN:VEVENT
UID:69ebebb991b0d
SUMMARY:Umsonst & drinnen
DESCRIPTION:Mit Galactic Lepus + Reflection Of Reality
LOCATION:2. OG
DTSTART:20250319T180000Z
DTEND:20250319T210000Z
DTSTAMP:20220919T074657Z
ORGANIZER;CN=Rocket Club:MAILTO:info@rocketclub.de
END:VEVENT
END:VCALENDAR