BEGIN:VCALENDAR
VERSION:2.0
PRODID:Events Booking
BEGIN:VEVENT
UID:69e5dd31b0e75
SUMMARY:Umsonst & drinnen
DESCRIPTION:Mit Bleak Sanctuary + Gumo Maniacs
LOCATION:2. OG
DTSTART:20250205T180000Z
DTEND:20250205T210000Z
DTSTAMP:20220919T074657Z
ORGANIZER;CN=Rocket Club:MAILTO:info@rocketclub.de
END:VEVENT
END:VCALENDAR