BEGIN:VCALENDAR
VERSION:2.0
PRODID:Events Booking
BEGIN:VEVENT
UID:69eb75788dabc
SUMMARY:The Whiskey Foundation
DESCRIPTION:Support: Rusty Stone
LOCATION:2. OG
DTSTART:20221015T170000Z
DTEND:20221015T220000Z
DTSTAMP:20220523T150217Z
ORGANIZER;CN=Rocket Club:MAILTO:info@rocketclub.de
END:VEVENT
END:VCALENDAR